BEGIN:VCALENDAR
VERSION:2.0
PRODID:-//114.141.206.222//NONSGML kigkonsult.se iCalcreator 2.26.9//
CALSCALE:GREGORIAN
METHOD:PUBLISH
X-WR-CALNAME:RJS Accounting
X-WR-CALDESC:
X-FROM-URL:https://rjsaccounting.com.au
X-WR-TIMEZONE:Australia/Brisbane
BEGIN:VTIMEZONE
TZID:Australia/Brisbane
X-LIC-LOCATION:Australia/Brisbane
BEGIN:STANDARD
DTSTART:19920301T030000
TZOFFSETFROM:+1100
TZOFFSETTO:+1000
TZNAME:AEST
END:STANDARD
END:VTIMEZONE
BEGIN:VEVENT
UID:ai1ec-808@rjsaccounting.com.au
DTSTAMP:20210227T021507Z
CATEGORIES:
CONTACT:
DESCRIPTION:<div class='at-above-post-homepage addthis_tool' data-url='http
 s://rjsaccounting.com.au/'></div><div id='et-boc' class='et-boc'>\n			\n		<div 
 class='et-l et-l--post'>\n			<div class='et_builder_inner_content et_pb_gutte
 rs3'>\n		<ul>\n<li>Lodge and pay December 2020 monthly business activity sta
 tement for business clients with up to $10 million turnover who report GST
  monthly and lodge electronically.</li>\n<li>Lodge and pay January 2021 mo
 nthly business activity statement.</li>\n</ul>\n\n		</div><!-- .et_builder_i
 nner_content -->\n	</div><!-- .et-l -->\n	\n			\n		</div><!-- #et-boc -->\n		<!-- A
 ddThis Advanced Settings above via filter on the_content --><!-- AddThis A
 dvanced Settings below via filter on the_content --><!-- AddThis Advanced 
 Settings generic via filter on the_content --><!-- AddThis Share Buttons a
 bove via filter on the_content --><!-- AddThis Share Buttons below via fil
 ter on the_content --><div class='at-below-post-homepage addthis_tool' dat
 a-url='https://rjsaccounting.com.au/'></div><!-- AddThis Share Buttons gen
 eric via filter on the_content -->
DTSTART;VALUE=DATE:20210221
DTEND;VALUE=DATE:20210222
SEQUENCE:0
SUMMARY:ATO Deadlines
URL:https://rjsaccounting.com.au/event/ato-deadlines-20/
X-COST-TYPE:free
END:VEVENT
END:VCALENDAR
