BEGIN:VCALENDAR
VERSION:2.0
PRODID:-//114.141.206.222//NONSGML kigkonsult.se iCalcreator 2.26.9//
CALSCALE:GREGORIAN
METHOD:PUBLISH
X-WR-CALNAME:RJS Accounting
X-WR-CALDESC:
X-FROM-URL:https://rjsaccounting.com.au
X-WR-TIMEZONE:Australia/Brisbane
BEGIN:VTIMEZONE
TZID:Australia/Brisbane
X-LIC-LOCATION:Australia/Brisbane
BEGIN:STANDARD
DTSTART:19920301T030000
TZOFFSETFROM:+1100
TZOFFSETTO:+1000
TZNAME:AEST
END:STANDARD
END:VTIMEZONE
BEGIN:VEVENT
UID:ai1ec-432@rjsaccounting.com.au
DTSTAMP:20210227T015845Z
CATEGORIES:
CONTACT:
DESCRIPTION:<div class='at-above-post-homepage addthis_tool' data-url='http
 s://rjsaccounting.com.au/'></div><div id='et-boc' class='et-boc'>\n			\n		<div 
 class='et-l et-l--post'>\n			<div class='et_builder_inner_content et_pb_gutte
 rs3'>\n		\n		</div><!-- .et_builder_inner_content -->\n	</div><!-- .et-l -->\n	
 \n			\n		</div><!-- #et-boc -->\n		<!-- AddThis Advanced Settings above via filte
 r on the_content --><!-- AddThis Advanced Settings below via filter on the
 _content --><!-- AddThis Advanced Settings generic via filter on the_conte
 nt --><!-- AddThis Share Buttons above via filter on the_content --><!-- A
 ddThis Share Buttons below via filter on the_content --><div class='at-bel
 ow-post-homepage addthis_tool' data-url='https://rjsaccounting.com.au/'></
 div><!-- AddThis Share Buttons generic via filter on the_content -->
DTSTART;VALUE=DATE:20190214
DTEND;VALUE=DATE:20190215
RRULE:FREQ=YEARLY;BYMONTH=2
SEQUENCE:0
SUMMARY:Valentine’s Day
URL:https://rjsaccounting.com.au/event/valentines-day/
X-COST-TYPE:free
END:VEVENT
END:VCALENDAR
