BEGIN:VCALENDAR
VERSION:2.0
PRODID:-//202.124.241.203//NONSGML kigkonsult.se iCalcreator 2.24.2//
CALSCALE:GREGORIAN
METHOD:PUBLISH
X-WR-CALNAME:RJS Accounting
X-WR-CALDESC:
X-FROM-URL:http://rjsaccounting.com.au
X-WR-TIMEZONE:Australia/Brisbane
BEGIN:VTIMEZONE
TZID:Australia/Brisbane
X-LIC-LOCATION:Australia/Brisbane
BEGIN:STANDARD
DTSTART:19920301T030000
TZOFFSETFROM:+1100
TZOFFSETTO:+1000
TZNAME:AEST
END:STANDARD
END:VTIMEZONE
BEGIN:VEVENT
UID:ai1ec-407@rjsaccounting.com.au
DTSTAMP:20190227T141100Z
CATEGORIES:
CONTACT:
DESCRIPTION:
DTSTART;TZID=Australia/Brisbane:20181031T003000
DTEND;TZID=Australia/Brisbane:20181104T180000
SEQUENCE:0
SUMMARY:Noosa Triathlon
URL:http://rjsaccounting.com.au/event/noosa-triathlon/
X-COST-TYPE:free
X-ALT-DESC;FMTTYPE=text/html:<!DOCTYPE HTML PUBLIC '-//W3C//DTD HTML 3.2//E
 N'>\\n<HTML>\\n<HEAD>\\n<TITLE></TITLE>\\n</HEAD>\\n<BODY><div class='at-a
 bove-post-homepage addthis_tool' data-url='http://rjsaccounting.com.au/'><
 /div><div id='et-boc' class='et-boc'>\n			\n			<div class='et_builder_inner_cont
 ent et_pb_gutters3'>\n				\n			</div>\n			\n		</div><!-- AddThis Advanced Settings abo
 ve via filter on the_content --><!-- AddThis Advanced Settings below via f
 ilter on the_content --><!-- AddThis Advanced Settings generic via filter 
 on the_content --><!-- AddThis Share Buttons above via filter on the_conte
 nt --><!-- AddThis Share Buttons below via filter on the_content --><div c
 lass='at-below-post-homepage addthis_tool' data-url='http://rjsaccounting.
 com.au/'></div><!-- AddThis Share Buttons generic via filter on the_conten
 t --></BODY></HTML>
END:VEVENT
END:VCALENDAR
